BEGIN:VCALENDAR
VERSION:2.0
PRODID:-//Sri Shirdi Sai Baba Temple of DFW - ECPv6.15.13//NONSGML v1.0//EN
CALSCALE:GREGORIAN
METHOD:PUBLISH
X-WR-CALNAME:Sri Shirdi Sai Baba Temple of DFW
X-ORIGINAL-URL:https://shirdisaidallas.org
X-WR-CALDESC:Events for Sri Shirdi Sai Baba Temple of DFW
REFRESH-INTERVAL;VALUE=DURATION:PT1H
X-Robots-Tag:noindex
X-PUBLISHED-TTL:PT1H
BEGIN:VTIMEZONE
TZID:America/Chicago
BEGIN:DAYLIGHT
TZOFFSETFROM:-0600
TZOFFSETTO:-0500
TZNAME:CDT
DTSTART:20260308T080000
END:DAYLIGHT
BEGIN:STANDARD
TZOFFSETFROM:-0500
TZOFFSETTO:-0600
TZNAME:CST
DTSTART:20261101T070000
END:STANDARD
BEGIN:DAYLIGHT
TZOFFSETFROM:-0600
TZOFFSETTO:-0500
TZNAME:CDT
DTSTART:20270314T080000
END:DAYLIGHT
BEGIN:STANDARD
TZOFFSETFROM:-0500
TZOFFSETTO:-0600
TZNAME:CST
DTSTART:20271107T070000
END:STANDARD
BEGIN:DAYLIGHT
TZOFFSETFROM:-0600
TZOFFSETTO:-0500
TZNAME:CDT
DTSTART:20280312T080000
END:DAYLIGHT
BEGIN:STANDARD
TZOFFSETFROM:-0500
TZOFFSETTO:-0600
TZNAME:CST
DTSTART:20281105T070000
END:STANDARD
END:VTIMEZONE
BEGIN:VEVENT
DTSTART;TZID=America/Chicago:20270102T110000
DTEND;TZID=America/Chicago:20270102T114500
DTSTAMP:20260420T072051
CREATED:20240126T192206Z
LAST-MODIFIED:20240131T013937Z
UID:10001771-1798887600-1798890300@shirdisaidallas.org
SUMMARY:Vishnu Sahasranamam
DESCRIPTION:Vishnu Sahasranamam Chanting \n\n\n\n\n\n\n\n\n\n\n\n\n\n	\n		\n\n			\n			\n\n							\n					\n						Upcoming Events					\n				\n			\n			\n				\n											\n\n	\n	\n		\n			Apr		\n		\n			25		\n	\n\n\n	\n		\n			\n\n				\n					\n	\n	\n	\n\n\n\n	Featured\n	\n		11:00 am – 11:45 am	\n	\n\n	\n		\n\n	\n	\n	\n\n	\n\n\n					\n	\n		Vishnu Sahasranamam	\n\n				\n\n				\n			\n		\n	\n\n\n											\n\n	\n	\n		\n			May		\n		\n			2		\n	\n\n\n	\n		\n			\n\n				\n					\n	\n	\n	\n\n\n\n	Featured\n	\n		11:00 am – 11:45 am	\n	\n\n	\n		\n\n	\n	\n	\n\n	\n\n\n					\n	\n		Vishnu Sahasranamam	\n\n				\n\n				\n			\n		\n	\n\n\n											\n\n	\n	\n		\n			May		\n		\n			9		\n	\n\n\n	\n		\n			\n\n				\n					\n	\n	\n	\n\n\n\n	Featured\n	\n		11:00 am – 11:45 am	\n	\n\n	\n		\n\n	\n	\n	\n\n	\n\n\n					\n	\n		Vishnu Sahasranamam	\n\n				\n\n				\n			\n		\n	\n\n\n									\n\n				\n	\n		View Calendar
URL:https://shirdisaidallas.org/event/vishnu-sahasranamam-53/2027-01-02/
CATEGORIES:Chanting
ATTACH;FMTTYPE=image/jpeg:https://shirdisaidallas.org/wp-content/uploads/2023/01/Vishnu-Sahasranamam.jpeg
ORGANIZER;CN="Temple":MAILTO:maildrop@shirdisaidallas.org
END:VEVENT
BEGIN:VEVENT
DTSTART;TZID=America/Chicago:20270109T110000
DTEND;TZID=America/Chicago:20270109T114500
DTSTAMP:20260420T072051
CREATED:20240126T192206Z
LAST-MODIFIED:20240131T013937Z
UID:10001772-1799492400-1799495100@shirdisaidallas.org
SUMMARY:Vishnu Sahasranamam
DESCRIPTION:Vishnu Sahasranamam Chanting \n\n\n\n\n\n\n\n\n\n\n\n\n\n	\n		\n\n			\n			\n\n							\n					\n						Upcoming Events					\n				\n			\n			\n				\n											\n\n	\n	\n		\n			Apr		\n		\n			25		\n	\n\n\n	\n		\n			\n\n				\n					\n	\n	\n	\n\n\n\n	Featured\n	\n		11:00 am – 11:45 am	\n	\n\n	\n		\n\n	\n	\n	\n\n	\n\n\n					\n	\n		Vishnu Sahasranamam	\n\n				\n\n				\n			\n		\n	\n\n\n											\n\n	\n	\n		\n			May		\n		\n			2		\n	\n\n\n	\n		\n			\n\n				\n					\n	\n	\n	\n\n\n\n	Featured\n	\n		11:00 am – 11:45 am	\n	\n\n	\n		\n\n	\n	\n	\n\n	\n\n\n					\n	\n		Vishnu Sahasranamam	\n\n				\n\n				\n			\n		\n	\n\n\n											\n\n	\n	\n		\n			May		\n		\n			9		\n	\n\n\n	\n		\n			\n\n				\n					\n	\n	\n	\n\n\n\n	Featured\n	\n		11:00 am – 11:45 am	\n	\n\n	\n		\n\n	\n	\n	\n\n	\n\n\n					\n	\n		Vishnu Sahasranamam	\n\n				\n\n				\n			\n		\n	\n\n\n									\n\n				\n	\n		View Calendar
URL:https://shirdisaidallas.org/event/vishnu-sahasranamam-53/2027-01-09/
CATEGORIES:Chanting
ATTACH;FMTTYPE=image/jpeg:https://shirdisaidallas.org/wp-content/uploads/2023/01/Vishnu-Sahasranamam.jpeg
ORGANIZER;CN="Temple":MAILTO:maildrop@shirdisaidallas.org
END:VEVENT
BEGIN:VEVENT
DTSTART;TZID=America/Chicago:20270116T110000
DTEND;TZID=America/Chicago:20270116T114500
DTSTAMP:20260420T072051
CREATED:20240126T192206Z
LAST-MODIFIED:20240131T013937Z
UID:10001773-1800097200-1800099900@shirdisaidallas.org
SUMMARY:Vishnu Sahasranamam
DESCRIPTION:Vishnu Sahasranamam Chanting \n\n\n\n\n\n\n\n\n\n\n\n\n\n	\n		\n\n			\n			\n\n							\n					\n						Upcoming Events					\n				\n			\n			\n				\n											\n\n	\n	\n		\n			Apr		\n		\n			25		\n	\n\n\n	\n		\n			\n\n				\n					\n	\n	\n	\n\n\n\n	Featured\n	\n		11:00 am – 11:45 am	\n	\n\n	\n		\n\n	\n	\n	\n\n	\n\n\n					\n	\n		Vishnu Sahasranamam	\n\n				\n\n				\n			\n		\n	\n\n\n											\n\n	\n	\n		\n			May		\n		\n			2		\n	\n\n\n	\n		\n			\n\n				\n					\n	\n	\n	\n\n\n\n	Featured\n	\n		11:00 am – 11:45 am	\n	\n\n	\n		\n\n	\n	\n	\n\n	\n\n\n					\n	\n		Vishnu Sahasranamam	\n\n				\n\n				\n			\n		\n	\n\n\n											\n\n	\n	\n		\n			May		\n		\n			9		\n	\n\n\n	\n		\n			\n\n				\n					\n	\n	\n	\n\n\n\n	Featured\n	\n		11:00 am – 11:45 am	\n	\n\n	\n		\n\n	\n	\n	\n\n	\n\n\n					\n	\n		Vishnu Sahasranamam	\n\n				\n\n				\n			\n		\n	\n\n\n									\n\n				\n	\n		View Calendar
URL:https://shirdisaidallas.org/event/vishnu-sahasranamam-53/2027-01-16/
CATEGORIES:Chanting
ATTACH;FMTTYPE=image/jpeg:https://shirdisaidallas.org/wp-content/uploads/2023/01/Vishnu-Sahasranamam.jpeg
ORGANIZER;CN="Temple":MAILTO:maildrop@shirdisaidallas.org
END:VEVENT
BEGIN:VEVENT
DTSTART;TZID=America/Chicago:20270123T110000
DTEND;TZID=America/Chicago:20270123T114500
DTSTAMP:20260420T072051
CREATED:20240126T192206Z
LAST-MODIFIED:20240131T013937Z
UID:10001774-1800702000-1800704700@shirdisaidallas.org
SUMMARY:Vishnu Sahasranamam
DESCRIPTION:Vishnu Sahasranamam Chanting \n\n\n\n\n\n\n\n\n\n\n\n\n\n	\n		\n\n			\n			\n\n							\n					\n						Upcoming Events					\n				\n			\n			\n				\n											\n\n	\n	\n		\n			Apr		\n		\n			25		\n	\n\n\n	\n		\n			\n\n				\n					\n	\n	\n	\n\n\n\n	Featured\n	\n		11:00 am – 11:45 am	\n	\n\n	\n		\n\n	\n	\n	\n\n	\n\n\n					\n	\n		Vishnu Sahasranamam	\n\n				\n\n				\n			\n		\n	\n\n\n											\n\n	\n	\n		\n			May		\n		\n			2		\n	\n\n\n	\n		\n			\n\n				\n					\n	\n	\n	\n\n\n\n	Featured\n	\n		11:00 am – 11:45 am	\n	\n\n	\n		\n\n	\n	\n	\n\n	\n\n\n					\n	\n		Vishnu Sahasranamam	\n\n				\n\n				\n			\n		\n	\n\n\n											\n\n	\n	\n		\n			May		\n		\n			9		\n	\n\n\n	\n		\n			\n\n				\n					\n	\n	\n	\n\n\n\n	Featured\n	\n		11:00 am – 11:45 am	\n	\n\n	\n		\n\n	\n	\n	\n\n	\n\n\n					\n	\n		Vishnu Sahasranamam	\n\n				\n\n				\n			\n		\n	\n\n\n									\n\n				\n	\n		View Calendar
URL:https://shirdisaidallas.org/event/vishnu-sahasranamam-53/2027-01-23/
CATEGORIES:Chanting
ATTACH;FMTTYPE=image/jpeg:https://shirdisaidallas.org/wp-content/uploads/2023/01/Vishnu-Sahasranamam.jpeg
ORGANIZER;CN="Temple":MAILTO:maildrop@shirdisaidallas.org
END:VEVENT
BEGIN:VEVENT
DTSTART;TZID=America/Chicago:20270130T110000
DTEND;TZID=America/Chicago:20270130T114500
DTSTAMP:20260420T072051
CREATED:20240126T192206Z
LAST-MODIFIED:20240131T013937Z
UID:10001775-1801306800-1801309500@shirdisaidallas.org
SUMMARY:Vishnu Sahasranamam
DESCRIPTION:Vishnu Sahasranamam Chanting \n\n\n\n\n\n\n\n\n\n\n\n\n\n	\n		\n\n			\n			\n\n							\n					\n						Upcoming Events					\n				\n			\n			\n				\n											\n\n	\n	\n		\n			Apr		\n		\n			25		\n	\n\n\n	\n		\n			\n\n				\n					\n	\n	\n	\n\n\n\n	Featured\n	\n		11:00 am – 11:45 am	\n	\n\n	\n		\n\n	\n	\n	\n\n	\n\n\n					\n	\n		Vishnu Sahasranamam	\n\n				\n\n				\n			\n		\n	\n\n\n											\n\n	\n	\n		\n			May		\n		\n			2		\n	\n\n\n	\n		\n			\n\n				\n					\n	\n	\n	\n\n\n\n	Featured\n	\n		11:00 am – 11:45 am	\n	\n\n	\n		\n\n	\n	\n	\n\n	\n\n\n					\n	\n		Vishnu Sahasranamam	\n\n				\n\n				\n			\n		\n	\n\n\n											\n\n	\n	\n		\n			May		\n		\n			9		\n	\n\n\n	\n		\n			\n\n				\n					\n	\n	\n	\n\n\n\n	Featured\n	\n		11:00 am – 11:45 am	\n	\n\n	\n		\n\n	\n	\n	\n\n	\n\n\n					\n	\n		Vishnu Sahasranamam	\n\n				\n\n				\n			\n		\n	\n\n\n									\n\n				\n	\n		View Calendar
URL:https://shirdisaidallas.org/event/vishnu-sahasranamam-53/2027-01-30/
CATEGORIES:Chanting
ATTACH;FMTTYPE=image/jpeg:https://shirdisaidallas.org/wp-content/uploads/2023/01/Vishnu-Sahasranamam.jpeg
ORGANIZER;CN="Temple":MAILTO:maildrop@shirdisaidallas.org
END:VEVENT
END:VCALENDAR