BEGIN:VCALENDAR
VERSION:2.0
PRODID:-//Sri Shirdi Sai Baba Temple of DFW - ECPv6.15.13//NONSGML v1.0//EN
CALSCALE:GREGORIAN
METHOD:PUBLISH
X-WR-CALNAME:Sri Shirdi Sai Baba Temple of DFW
X-ORIGINAL-URL:https://shirdisaidallas.org
X-WR-CALDESC:Events for Sri Shirdi Sai Baba Temple of DFW
REFRESH-INTERVAL;VALUE=DURATION:PT1H
X-Robots-Tag:noindex
X-PUBLISHED-TTL:PT1H
BEGIN:VTIMEZONE
TZID:America/Chicago
BEGIN:DAYLIGHT
TZOFFSETFROM:-0600
TZOFFSETTO:-0500
TZNAME:CDT
DTSTART:20240310T080000
END:DAYLIGHT
BEGIN:STANDARD
TZOFFSETFROM:-0500
TZOFFSETTO:-0600
TZNAME:CST
DTSTART:20241103T070000
END:STANDARD
BEGIN:DAYLIGHT
TZOFFSETFROM:-0600
TZOFFSETTO:-0500
TZNAME:CDT
DTSTART:20250309T080000
END:DAYLIGHT
BEGIN:STANDARD
TZOFFSETFROM:-0500
TZOFFSETTO:-0600
TZNAME:CST
DTSTART:20251102T070000
END:STANDARD
BEGIN:DAYLIGHT
TZOFFSETFROM:-0600
TZOFFSETTO:-0500
TZNAME:CDT
DTSTART:20260308T080000
END:DAYLIGHT
BEGIN:STANDARD
TZOFFSETFROM:-0500
TZOFFSETTO:-0600
TZNAME:CST
DTSTART:20261101T070000
END:STANDARD
END:VTIMEZONE
BEGIN:VEVENT
DTSTART;TZID=America/Chicago:20250802T110000
DTEND;TZID=America/Chicago:20250802T114500
DTSTAMP:20260420T185516
CREATED:20240126T192206Z
LAST-MODIFIED:20240131T013937Z
UID:10001697-1754132400-1754135100@shirdisaidallas.org
SUMMARY:Vishnu Sahasranamam
DESCRIPTION:Vishnu Sahasranamam Chanting \n\n\n\n\n\n\n\n\n\n\n\n\n\n	\n		\n\n			\n			\n\n							\n					\n						Upcoming Events					\n				\n			\n			\n				\n											\n\n	\n	\n		\n			Apr		\n		\n			25		\n	\n\n\n	\n		\n			\n\n				\n					\n	\n	\n	\n\n\n\n	Featured\n	\n		11:00 am – 11:45 am	\n	\n\n	\n		\n\n	\n	\n	\n\n	\n\n\n					\n	\n		Vishnu Sahasranamam	\n\n				\n\n				\n			\n		\n	\n\n\n											\n\n	\n	\n		\n			May		\n		\n			2		\n	\n\n\n	\n		\n			\n\n				\n					\n	\n	\n	\n\n\n\n	Featured\n	\n		11:00 am – 11:45 am	\n	\n\n	\n		\n\n	\n	\n	\n\n	\n\n\n					\n	\n		Vishnu Sahasranamam	\n\n				\n\n				\n			\n		\n	\n\n\n											\n\n	\n	\n		\n			May		\n		\n			9		\n	\n\n\n	\n		\n			\n\n				\n					\n	\n	\n	\n\n\n\n	Featured\n	\n		11:00 am – 11:45 am	\n	\n\n	\n		\n\n	\n	\n	\n\n	\n\n\n					\n	\n		Vishnu Sahasranamam	\n\n				\n\n				\n			\n		\n	\n\n\n									\n\n				\n	\n		View Calendar
URL:https://shirdisaidallas.org/event/vishnu-sahasranamam-53/2025-08-02/
CATEGORIES:Chanting
ATTACH;FMTTYPE=image/jpeg:https://shirdisaidallas.org/wp-content/uploads/2023/01/Vishnu-Sahasranamam.jpeg
ORGANIZER;CN="Temple":MAILTO:maildrop@shirdisaidallas.org
END:VEVENT
BEGIN:VEVENT
DTSTART;TZID=America/Chicago:20250809T110000
DTEND;TZID=America/Chicago:20250809T114500
DTSTAMP:20260420T185517
CREATED:20240126T192206Z
LAST-MODIFIED:20240131T013937Z
UID:10001698-1754737200-1754739900@shirdisaidallas.org
SUMMARY:Vishnu Sahasranamam
DESCRIPTION:Vishnu Sahasranamam Chanting \n\n\n\n\n\n\n\n\n\n\n\n\n\n	\n		\n\n			\n			\n\n							\n					\n						Upcoming Events					\n				\n			\n			\n				\n											\n\n	\n	\n		\n			Apr		\n		\n			25		\n	\n\n\n	\n		\n			\n\n				\n					\n	\n	\n	\n\n\n\n	Featured\n	\n		11:00 am – 11:45 am	\n	\n\n	\n		\n\n	\n	\n	\n\n	\n\n\n					\n	\n		Vishnu Sahasranamam	\n\n				\n\n				\n			\n		\n	\n\n\n											\n\n	\n	\n		\n			May		\n		\n			2		\n	\n\n\n	\n		\n			\n\n				\n					\n	\n	\n	\n\n\n\n	Featured\n	\n		11:00 am – 11:45 am	\n	\n\n	\n		\n\n	\n	\n	\n\n	\n\n\n					\n	\n		Vishnu Sahasranamam	\n\n				\n\n				\n			\n		\n	\n\n\n											\n\n	\n	\n		\n			May		\n		\n			9		\n	\n\n\n	\n		\n			\n\n				\n					\n	\n	\n	\n\n\n\n	Featured\n	\n		11:00 am – 11:45 am	\n	\n\n	\n		\n\n	\n	\n	\n\n	\n\n\n					\n	\n		Vishnu Sahasranamam	\n\n				\n\n				\n			\n		\n	\n\n\n									\n\n				\n	\n		View Calendar
URL:https://shirdisaidallas.org/event/vishnu-sahasranamam-53/2025-08-09/
CATEGORIES:Chanting
ATTACH;FMTTYPE=image/jpeg:https://shirdisaidallas.org/wp-content/uploads/2023/01/Vishnu-Sahasranamam.jpeg
ORGANIZER;CN="Temple":MAILTO:maildrop@shirdisaidallas.org
END:VEVENT
BEGIN:VEVENT
DTSTART;TZID=America/Chicago:20250816T110000
DTEND;TZID=America/Chicago:20250816T114500
DTSTAMP:20260420T185517
CREATED:20240126T192206Z
LAST-MODIFIED:20240131T013937Z
UID:10001699-1755342000-1755344700@shirdisaidallas.org
SUMMARY:Vishnu Sahasranamam
DESCRIPTION:Vishnu Sahasranamam Chanting \n\n\n\n\n\n\n\n\n\n\n\n\n\n	\n		\n\n			\n			\n\n							\n					\n						Upcoming Events					\n				\n			\n			\n				\n											\n\n	\n	\n		\n			Apr		\n		\n			25		\n	\n\n\n	\n		\n			\n\n				\n					\n	\n	\n	\n\n\n\n	Featured\n	\n		11:00 am – 11:45 am	\n	\n\n	\n		\n\n	\n	\n	\n\n	\n\n\n					\n	\n		Vishnu Sahasranamam	\n\n				\n\n				\n			\n		\n	\n\n\n											\n\n	\n	\n		\n			May		\n		\n			2		\n	\n\n\n	\n		\n			\n\n				\n					\n	\n	\n	\n\n\n\n	Featured\n	\n		11:00 am – 11:45 am	\n	\n\n	\n		\n\n	\n	\n	\n\n	\n\n\n					\n	\n		Vishnu Sahasranamam	\n\n				\n\n				\n			\n		\n	\n\n\n											\n\n	\n	\n		\n			May		\n		\n			9		\n	\n\n\n	\n		\n			\n\n				\n					\n	\n	\n	\n\n\n\n	Featured\n	\n		11:00 am – 11:45 am	\n	\n\n	\n		\n\n	\n	\n	\n\n	\n\n\n					\n	\n		Vishnu Sahasranamam	\n\n				\n\n				\n			\n		\n	\n\n\n									\n\n				\n	\n		View Calendar
URL:https://shirdisaidallas.org/event/vishnu-sahasranamam-53/2025-08-16/
CATEGORIES:Chanting
ATTACH;FMTTYPE=image/jpeg:https://shirdisaidallas.org/wp-content/uploads/2023/01/Vishnu-Sahasranamam.jpeg
ORGANIZER;CN="Temple":MAILTO:maildrop@shirdisaidallas.org
END:VEVENT
BEGIN:VEVENT
DTSTART;TZID=America/Chicago:20250823T110000
DTEND;TZID=America/Chicago:20250823T114500
DTSTAMP:20260420T185517
CREATED:20240126T192206Z
LAST-MODIFIED:20240131T013937Z
UID:10001700-1755946800-1755949500@shirdisaidallas.org
SUMMARY:Vishnu Sahasranamam
DESCRIPTION:Vishnu Sahasranamam Chanting \n\n\n\n\n\n\n\n\n\n\n\n\n\n	\n		\n\n			\n			\n\n							\n					\n						Upcoming Events					\n				\n			\n			\n				\n											\n\n	\n	\n		\n			Apr		\n		\n			25		\n	\n\n\n	\n		\n			\n\n				\n					\n	\n	\n	\n\n\n\n	Featured\n	\n		11:00 am – 11:45 am	\n	\n\n	\n		\n\n	\n	\n	\n\n	\n\n\n					\n	\n		Vishnu Sahasranamam	\n\n				\n\n				\n			\n		\n	\n\n\n											\n\n	\n	\n		\n			May		\n		\n			2		\n	\n\n\n	\n		\n			\n\n				\n					\n	\n	\n	\n\n\n\n	Featured\n	\n		11:00 am – 11:45 am	\n	\n\n	\n		\n\n	\n	\n	\n\n	\n\n\n					\n	\n		Vishnu Sahasranamam	\n\n				\n\n				\n			\n		\n	\n\n\n											\n\n	\n	\n		\n			May		\n		\n			9		\n	\n\n\n	\n		\n			\n\n				\n					\n	\n	\n	\n\n\n\n	Featured\n	\n		11:00 am – 11:45 am	\n	\n\n	\n		\n\n	\n	\n	\n\n	\n\n\n					\n	\n		Vishnu Sahasranamam	\n\n				\n\n				\n			\n		\n	\n\n\n									\n\n				\n	\n		View Calendar
URL:https://shirdisaidallas.org/event/vishnu-sahasranamam-53/2025-08-23/
CATEGORIES:Chanting
ATTACH;FMTTYPE=image/jpeg:https://shirdisaidallas.org/wp-content/uploads/2023/01/Vishnu-Sahasranamam.jpeg
ORGANIZER;CN="Temple":MAILTO:maildrop@shirdisaidallas.org
END:VEVENT
BEGIN:VEVENT
DTSTART;TZID=America/Chicago:20250830T110000
DTEND;TZID=America/Chicago:20250830T114500
DTSTAMP:20260420T185517
CREATED:20240126T192206Z
LAST-MODIFIED:20240131T013937Z
UID:10001701-1756551600-1756554300@shirdisaidallas.org
SUMMARY:Vishnu Sahasranamam
DESCRIPTION:Vishnu Sahasranamam Chanting \n\n\n\n\n\n\n\n\n\n\n\n\n\n	\n		\n\n			\n			\n\n							\n					\n						Upcoming Events					\n				\n			\n			\n				\n											\n\n	\n	\n		\n			Apr		\n		\n			25		\n	\n\n\n	\n		\n			\n\n				\n					\n	\n	\n	\n\n\n\n	Featured\n	\n		11:00 am – 11:45 am	\n	\n\n	\n		\n\n	\n	\n	\n\n	\n\n\n					\n	\n		Vishnu Sahasranamam	\n\n				\n\n				\n			\n		\n	\n\n\n											\n\n	\n	\n		\n			May		\n		\n			2		\n	\n\n\n	\n		\n			\n\n				\n					\n	\n	\n	\n\n\n\n	Featured\n	\n		11:00 am – 11:45 am	\n	\n\n	\n		\n\n	\n	\n	\n\n	\n\n\n					\n	\n		Vishnu Sahasranamam	\n\n				\n\n				\n			\n		\n	\n\n\n											\n\n	\n	\n		\n			May		\n		\n			9		\n	\n\n\n	\n		\n			\n\n				\n					\n	\n	\n	\n\n\n\n	Featured\n	\n		11:00 am – 11:45 am	\n	\n\n	\n		\n\n	\n	\n	\n\n	\n\n\n					\n	\n		Vishnu Sahasranamam	\n\n				\n\n				\n			\n		\n	\n\n\n									\n\n				\n	\n		View Calendar
URL:https://shirdisaidallas.org/event/vishnu-sahasranamam-53/2025-08-30/
CATEGORIES:Chanting
ATTACH;FMTTYPE=image/jpeg:https://shirdisaidallas.org/wp-content/uploads/2023/01/Vishnu-Sahasranamam.jpeg
ORGANIZER;CN="Temple":MAILTO:maildrop@shirdisaidallas.org
END:VEVENT
END:VCALENDAR