BEGIN:VCALENDAR
VERSION:2.0
PRODID:-//Sri Shirdi Sai Baba Temple of DFW - ECPv6.15.13//NONSGML v1.0//EN
CALSCALE:GREGORIAN
METHOD:PUBLISH
X-WR-CALNAME:Sri Shirdi Sai Baba Temple of DFW
X-ORIGINAL-URL:https://shirdisaidallas.org
X-WR-CALDESC:Events for Sri Shirdi Sai Baba Temple of DFW
REFRESH-INTERVAL;VALUE=DURATION:PT1H
X-Robots-Tag:noindex
X-PUBLISHED-TTL:PT1H
BEGIN:VTIMEZONE
TZID:America/Chicago
BEGIN:DAYLIGHT
TZOFFSETFROM:-0600
TZOFFSETTO:-0500
TZNAME:CDT
DTSTART:20230312T080000
END:DAYLIGHT
BEGIN:STANDARD
TZOFFSETFROM:-0500
TZOFFSETTO:-0600
TZNAME:CST
DTSTART:20231105T070000
END:STANDARD
BEGIN:DAYLIGHT
TZOFFSETFROM:-0600
TZOFFSETTO:-0500
TZNAME:CDT
DTSTART:20240310T080000
END:DAYLIGHT
BEGIN:STANDARD
TZOFFSETFROM:-0500
TZOFFSETTO:-0600
TZNAME:CST
DTSTART:20241103T070000
END:STANDARD
BEGIN:DAYLIGHT
TZOFFSETFROM:-0600
TZOFFSETTO:-0500
TZNAME:CDT
DTSTART:20250309T080000
END:DAYLIGHT
BEGIN:STANDARD
TZOFFSETFROM:-0500
TZOFFSETTO:-0600
TZNAME:CST
DTSTART:20251102T070000
END:STANDARD
END:VTIMEZONE
BEGIN:VEVENT
DTSTART;TZID=America/Chicago:20241003T080000
DTEND;TZID=America/Chicago:20241003T203000
DTSTAMP:20260424T100504
CREATED:20240909T190758Z
LAST-MODIFIED:20240919T211911Z
UID:10002508-1727942400-1727987400@shirdisaidallas.org
SUMMARY:Navarathri - Day 1
DESCRIPTION:Please join us with your family and friends to celebrate at the temple
URL:https://shirdisaidallas.org/event/navarathri/
LOCATION:Sri Shirdi Sai Baba Temple of DFW\, 2699 W Plano Pkwy Plano\, Texas\, TX\, 75075\, United States
CATEGORIES:Festival
ATTACH;FMTTYPE=image/jpeg:https://shirdisaidallas.org/wp-content/uploads/2024/09/Durga-Lakshmi-Saraswathi.jpeg
ORGANIZER;CN="Temple":MAILTO:maildrop@shirdisaidallas.org
END:VEVENT
BEGIN:VEVENT
DTSTART;TZID=America/Chicago:20241004T190000
DTEND;TZID=America/Chicago:20241004T203000
DTSTAMP:20260424T100504
CREATED:20240909T191555Z
LAST-MODIFIED:20240910T020558Z
UID:10002509-1728068400-1728073800@shirdisaidallas.org
SUMMARY:Navarathri - Day 2
DESCRIPTION:Please join us with your family and friends to celebrate at the temple
URL:https://shirdisaidallas.org/event/navarathri-day-2/
LOCATION:Sri Shirdi Sai Baba Temple of DFW\, 2699 W Plano Pkwy Plano\, Texas\, TX\, 75075\, United States
CATEGORIES:Festival
ATTACH;FMTTYPE=image/jpeg:https://shirdisaidallas.org/wp-content/uploads/2024/09/Durga-Lakshmi-Saraswathi.jpeg
ORGANIZER;CN="Temple":MAILTO:maildrop@shirdisaidallas.org
END:VEVENT
BEGIN:VEVENT
DTSTART;TZID=America/Chicago:20241005T190000
DTEND;TZID=America/Chicago:20241005T203000
DTSTAMP:20260424T100504
CREATED:20240909T191656Z
LAST-MODIFIED:20240919T211705Z
UID:10002510-1728154800-1728160200@shirdisaidallas.org
SUMMARY:Navarathri - Day 3
DESCRIPTION:Please join us with your family and friends to celebrate at the temple
URL:https://shirdisaidallas.org/event/navarathri-day-3/
LOCATION:Sri Shirdi Sai Baba Temple of DFW\, 2699 W Plano Pkwy Plano\, Texas\, TX\, 75075\, United States
CATEGORIES:Festival
ATTACH;FMTTYPE=image/jpeg:https://shirdisaidallas.org/wp-content/uploads/2024/09/Durga-Lakshmi-Saraswathi.jpeg
ORGANIZER;CN="Temple":MAILTO:maildrop@shirdisaidallas.org
END:VEVENT
BEGIN:VEVENT
DTSTART;TZID=America/Chicago:20241006T190000
DTEND;TZID=America/Chicago:20241006T203000
DTSTAMP:20260424T100504
CREATED:20240909T191738Z
LAST-MODIFIED:20240919T211518Z
UID:10002511-1728241200-1728246600@shirdisaidallas.org
SUMMARY:Navarathri - Day 4
DESCRIPTION:Please join us with your family and friends to celebrate at the temple
URL:https://shirdisaidallas.org/event/navarathri-day-4/
LOCATION:Sri Shirdi Sai Baba Temple of DFW\, 2699 W Plano Pkwy Plano\, Texas\, TX\, 75075\, United States
CATEGORIES:Festival
ATTACH;FMTTYPE=image/jpeg:https://shirdisaidallas.org/wp-content/uploads/2024/09/Durga-Lakshmi-Saraswathi.jpeg
ORGANIZER;CN="Temple":MAILTO:maildrop@shirdisaidallas.org
END:VEVENT
BEGIN:VEVENT
DTSTART;TZID=America/Chicago:20241007T190000
DTEND;TZID=America/Chicago:20241007T203000
DTSTAMP:20260424T100504
CREATED:20240909T191822Z
LAST-MODIFIED:20240919T211418Z
UID:10002512-1728327600-1728333000@shirdisaidallas.org
SUMMARY:Navarathri - Day 5
DESCRIPTION:Please join us with your family and friends to celebrate at the temple
URL:https://shirdisaidallas.org/event/navarathri-day-5/
LOCATION:Sri Shirdi Sai Baba Temple of DFW\, 2699 W Plano Pkwy Plano\, Texas\, TX\, 75075\, United States
CATEGORIES:Festival
ATTACH;FMTTYPE=image/jpeg:https://shirdisaidallas.org/wp-content/uploads/2024/09/Durga-Lakshmi-Saraswathi.jpeg
ORGANIZER;CN="Temple":MAILTO:maildrop@shirdisaidallas.org
END:VEVENT
BEGIN:VEVENT
DTSTART;TZID=America/Chicago:20241008T190000
DTEND;TZID=America/Chicago:20241008T203000
DTSTAMP:20260424T100504
CREATED:20240909T191908Z
LAST-MODIFIED:20240919T211312Z
UID:10002513-1728414000-1728419400@shirdisaidallas.org
SUMMARY:Navarathri - Day 6
DESCRIPTION:Please join us with your family and friends to celebrate at the temple
URL:https://shirdisaidallas.org/event/navarathri-day-6-2/
LOCATION:Sri Shirdi Sai Baba Temple of DFW\, 2699 W Plano Pkwy Plano\, Texas\, TX\, 75075\, United States
CATEGORIES:Festival
ATTACH;FMTTYPE=image/jpeg:https://shirdisaidallas.org/wp-content/uploads/2024/09/Durga-Lakshmi-Saraswathi.jpeg
ORGANIZER;CN="Temple":MAILTO:maildrop@shirdisaidallas.org
END:VEVENT
BEGIN:VEVENT
DTSTART;TZID=America/Chicago:20241008T190000
DTEND;TZID=America/Chicago:20241008T203000
DTSTAMP:20260424T100504
CREATED:20250928T231527Z
LAST-MODIFIED:20250928T231532Z
UID:10002581-1728414000-1728419400@shirdisaidallas.org
SUMMARY:Navarathri - Day 6
DESCRIPTION:Please join us with your family and friends to celebrate at the temple
URL:https://shirdisaidallas.org/event/navarathri-day-6-3/
LOCATION:Sri Shirdi Sai Baba Temple of DFW\, 2699 W Plano Pkwy Plano\, Texas\, TX\, 75075\, United States
CATEGORIES:Festival
ATTACH;FMTTYPE=image/jpeg:https://shirdisaidallas.org/wp-content/uploads/2024/09/Durga-Lakshmi-Saraswathi.jpeg
ORGANIZER;CN="Temple":MAILTO:maildrop@shirdisaidallas.org
END:VEVENT
BEGIN:VEVENT
DTSTART;TZID=America/Chicago:20241009T190000
DTEND;TZID=America/Chicago:20241009T203000
DTSTAMP:20260424T100504
CREATED:20240909T192015Z
LAST-MODIFIED:20240919T211017Z
UID:10002514-1728500400-1728505800@shirdisaidallas.org
SUMMARY:Navarathri - Day 7 Saraswathi Puja
DESCRIPTION:Please join us with your family and friends to celebrate at the temple
URL:https://shirdisaidallas.org/event/navarathri-day-7-saraswathi-puja/
LOCATION:Sri Shirdi Sai Baba Temple of DFW\, 2699 W Plano Pkwy Plano\, Texas\, TX\, 75075\, United States
CATEGORIES:Festival
ATTACH;FMTTYPE=image/jpeg:https://shirdisaidallas.org/wp-content/uploads/2024/09/Saraswathi-Icon.jpg
ORGANIZER;CN="Temple":MAILTO:maildrop@shirdisaidallas.org
END:VEVENT
BEGIN:VEVENT
DTSTART;TZID=America/Chicago:20241010T184500
DTEND;TZID=America/Chicago:20241010T203000
DTSTAMP:20260424T100504
CREATED:20240909T192307Z
LAST-MODIFIED:20240919T210934Z
UID:10002515-1728585900-1728592200@shirdisaidallas.org
SUMMARY:Navarathri - Day 8 Durga Ashtami Puja
DESCRIPTION:Please join us with your family and friends to celebrate at the temple
URL:https://shirdisaidallas.org/event/navarathri-day-8-durga-ashtami-puja/
LOCATION:Sri Shirdi Sai Baba Temple of DFW\, 2699 W Plano Pkwy Plano\, Texas\, TX\, 75075\, United States
CATEGORIES:Festival
ATTACH;FMTTYPE=image/jpeg:https://shirdisaidallas.org/wp-content/uploads/2024/09/Durga-Asthami-Icon.jpg
ORGANIZER;CN="Temple":MAILTO:maildrop@shirdisaidallas.org
END:VEVENT
BEGIN:VEVENT
DTSTART;TZID=America/Chicago:20241011T190000
DTEND;TZID=America/Chicago:20241011T203000
DTSTAMP:20260424T100504
CREATED:20240909T192405Z
LAST-MODIFIED:20240919T211130Z
UID:10002516-1728673200-1728678600@shirdisaidallas.org
SUMMARY:Navarathri - Day 9
DESCRIPTION:Please join us with your family and friends to celebrate at the temple
URL:https://shirdisaidallas.org/event/navarathri-day-9/
LOCATION:Sri Shirdi Sai Baba Temple of DFW\, 2699 W Plano Pkwy Plano\, Texas\, TX\, 75075\, United States
CATEGORIES:Festival
ATTACH;FMTTYPE=image/jpeg:https://shirdisaidallas.org/wp-content/uploads/2024/09/Durga-Lakshmi-Saraswathi.jpeg
ORGANIZER;CN="Temple":MAILTO:maildrop@shirdisaidallas.org
END:VEVENT
END:VCALENDAR