BEGIN:VCALENDAR
VERSION:2.0
PRODID:-//Sri Shirdi Sai Baba Temple of DFW - ECPv6.15.13//NONSGML v1.0//EN
CALSCALE:GREGORIAN
METHOD:PUBLISH
X-WR-CALNAME:Sri Shirdi Sai Baba Temple of DFW
X-ORIGINAL-URL:https://shirdisaidallas.org
X-WR-CALDESC:Events for Sri Shirdi Sai Baba Temple of DFW
REFRESH-INTERVAL;VALUE=DURATION:PT1H
X-Robots-Tag:noindex
X-PUBLISHED-TTL:PT1H
BEGIN:VTIMEZONE
TZID:America/Chicago
BEGIN:DAYLIGHT
TZOFFSETFROM:-0600
TZOFFSETTO:-0500
TZNAME:CDT
DTSTART:20240310T080000
END:DAYLIGHT
BEGIN:STANDARD
TZOFFSETFROM:-0500
TZOFFSETTO:-0600
TZNAME:CST
DTSTART:20241103T070000
END:STANDARD
BEGIN:DAYLIGHT
TZOFFSETFROM:-0600
TZOFFSETTO:-0500
TZNAME:CDT
DTSTART:20250309T080000
END:DAYLIGHT
BEGIN:STANDARD
TZOFFSETFROM:-0500
TZOFFSETTO:-0600
TZNAME:CST
DTSTART:20251102T070000
END:STANDARD
BEGIN:DAYLIGHT
TZOFFSETFROM:-0600
TZOFFSETTO:-0500
TZNAME:CDT
DTSTART:20260308T080000
END:DAYLIGHT
BEGIN:STANDARD
TZOFFSETFROM:-0500
TZOFFSETTO:-0600
TZNAME:CST
DTSTART:20261101T070000
END:STANDARD
END:VTIMEZONE
BEGIN:VEVENT
DTSTART;TZID=America/Chicago:20250215T080000
DTEND;TZID=America/Chicago:20250215T120000
DTSTAMP:20260425T132625
CREATED:20250117T001226Z
LAST-MODIFIED:20250210T141759Z
UID:10002563-1739606400-1739620800@shirdisaidallas.org
SUMMARY:Temple Sixth Anniversary - Praana Prathista
DESCRIPTION:Upcoming Events					\n				\n			\n			\n				\n											\n\n	\n	\n		\n			Apr		\n		\n			26		\n	\n\n\n	\n		\n			\n\n				\n					\n	\n	\n	\n\n\n\n	Featured\n	\n		7:00 pm – 8:00 pm	\n	\n\n	\n		\n\n	\n	\n	\n\n	\n\n\n					\n	\n		Satcharitra Reading	\n\n				\n\n				\n			\n		\n	\n\n\n											\n\n	\n	\n		\n			Apr		\n		\n			30		\n	\n\n\n	\n		\n			\n\n				\n					\n	\n	\n	\n\n\n\n	Featured\n	\n		6:30 pm – 8:45 pm	\n	\n					\n	\n		Satyanarayana Puja	\n\n				\n\n				\n			\n		\n	\n\n\n											\n\n	\n	\n		\n			Apr		\n		\n			30		\n	\n\n\n	\n		\n			\n\n				\n					\n	\n	\n	\n\n\n\n	Featured\n	\n		7:30 pm – 8:30 pm	\n	\n\n	\n		\n\n	\n	\n	\n\n	\n\n\n					\n	\n		Sai Bhajans	\n\n				\n\n				\n			\n		\n	\n\n\n									\n\n				\n	\n		View Calendar	\n\n\n					\n	\n\n\n\n\n\n\n00Days00Hours00Minutes00Seconds
URL:https://shirdisaidallas.org/event/temple-sixth-anniversary-praana-prathista/
LOCATION:Sri Shirdi Sai Baba Temple of DFW\, 2699 W Plano Pkwy Plano\, Texas\, TX\, 75075\, United States
CATEGORIES:Festival
ATTACH;FMTTYPE=image/png:https://shirdisaidallas.org/wp-content/uploads/2024/01/Temple-Building-Icon-1.png
ORGANIZER;CN="Temple":MAILTO:maildrop@shirdisaidallas.org
END:VEVENT
BEGIN:VEVENT
DTSTART;TZID=America/Chicago:20250215T110000
DTEND;TZID=America/Chicago:20250215T114500
DTSTAMP:20260425T132625
CREATED:20240126T192206Z
LAST-MODIFIED:20240131T013937Z
UID:10001673-1739617200-1739619900@shirdisaidallas.org
SUMMARY:Vishnu Sahasranamam
DESCRIPTION:Vishnu Sahasranamam Chanting \n\n\n\n\n\n\n\n\n\n\n\n\n\n	\n		\n\n			\n			\n\n							\n					\n						Upcoming Events					\n				\n			\n			\n				\n											\n\n	\n	\n		\n			Apr		\n		\n			26		\n	\n\n\n	\n		\n			\n\n				\n					\n	\n	\n	\n\n\n\n	Featured\n	\n		7:00 pm – 8:00 pm	\n	\n\n	\n		\n\n	\n	\n	\n\n	\n\n\n					\n	\n		Satcharitra Reading	\n\n				\n\n				\n			\n		\n	\n\n\n											\n\n	\n	\n		\n			Apr		\n		\n			30		\n	\n\n\n	\n		\n			\n\n				\n					\n	\n	\n	\n\n\n\n	Featured\n	\n		6:30 pm – 8:45 pm	\n	\n					\n	\n		Satyanarayana Puja	\n\n				\n\n				\n			\n		\n	\n\n\n											\n\n	\n	\n		\n			Apr		\n		\n			30		\n	\n\n\n	\n		\n			\n\n				\n					\n	\n	\n	\n\n\n\n	Featured\n	\n		7:30 pm – 8:30 pm	\n	\n\n	\n		\n\n	\n	\n	\n\n	\n\n\n					\n	\n		Sai Bhajans	\n\n				\n\n				\n			\n		\n	\n\n\n									\n\n				\n	\n		View Calendar
URL:https://shirdisaidallas.org/event/vishnu-sahasranamam-53/2025-02-15/
LOCATION:TX
CATEGORIES:Chanting
ATTACH;FMTTYPE=image/jpeg:https://shirdisaidallas.org/wp-content/uploads/2023/01/Vishnu-Sahasranamam.jpeg
ORGANIZER;CN="Temple":MAILTO:maildrop@shirdisaidallas.org
END:VEVENT
BEGIN:VEVENT
DTSTART;TZID=America/Chicago:20250215T184500
DTEND;TZID=America/Chicago:20250215T203000
DTSTAMP:20260425T132625
CREATED:20250113T185608Z
LAST-MODIFIED:20250113T185615Z
UID:10002543-1739645100-1739651400@shirdisaidallas.org
SUMMARY:Sankatahara Chaturthi
DESCRIPTION:Celebrate Sankatahara Chaturthi with Sai Baba \n\n\n\n\n\n\n\n\n	\n		\n\n			\n			\n\n							\n					\n						Upcoming Events					\n				\n			\n			\n				\n											\n\n	\n	\n		\n			Apr		\n		\n			26		\n	\n\n\n	\n		\n			\n\n				\n					\n	\n	\n	\n\n\n\n	Featured\n	\n		7:00 pm – 8:00 pm	\n	\n\n	\n		\n\n	\n	\n	\n\n	\n\n\n					\n	\n		Satcharitra Reading	\n\n				\n\n				\n			\n		\n	\n\n\n									\n\n				\n	\n		View Calendar	\n\n\n					\n	\n\n\n\n\n\n\n\n\n\n\n	\n		\n\n			\n			\n\n							\n					\n						Upcoming Events					\n				\n			\n			\n				\n											\n\n	\n	\n		\n			Apr		\n		\n			26		\n	\n\n\n	\n		\n			\n\n				\n					\n	\n	\n	\n\n\n\n	Featured\n	\n		7:00 pm – 8:00 pm	\n	\n\n	\n		\n\n	\n	\n	\n\n	\n\n\n					\n	\n		Satcharitra Reading	\n\n				\n\n				\n			\n		\n	\n\n\n											\n\n	\n	\n		\n			Apr		\n		\n			30		\n	\n\n\n	\n		\n			\n\n				\n					\n	\n	\n	\n\n\n\n	Featured\n	\n		6:30 pm – 8:45 pm	\n	\n					\n	\n		Satyanarayana Puja	\n\n				\n\n				\n			\n		\n	\n\n\n											\n\n	\n	\n		\n			Apr		\n		\n			30		\n	\n\n\n	\n		\n			\n\n				\n					\n	\n	\n	\n\n\n\n	Featured\n	\n		7:30 pm – 8:30 pm	\n	\n\n	\n		\n\n	\n	\n	\n\n	\n\n\n					\n	\n		Sai Bhajans	\n\n				\n\n				\n			\n		\n	\n\n\n									\n\n				\n	\n		View Calendar
URL:https://shirdisaidallas.org/event/sankatahara-chaturthi-25/
LOCATION:Sri Shirdi Sai Baba Temple of DFW\, 2699 W Plano Pkwy Plano\, Texas\, TX\, 75075\, United States
CATEGORIES:Festival,Traditions
ATTACH;FMTTYPE=image/jpeg:https://shirdisaidallas.org/wp-content/uploads/2023/05/Ganesha.jpg
ORGANIZER;CN="Temple":MAILTO:maildrop@shirdisaidallas.org
END:VEVENT
END:VCALENDAR