BEGIN:VCALENDAR
VERSION:2.0
PRODID:-//Sri Shirdi Sai Baba Temple of DFW - ECPv6.15.13//NONSGML v1.0//EN
CALSCALE:GREGORIAN
METHOD:PUBLISH
X-ORIGINAL-URL:https://shirdisaidallas.org
X-WR-CALDESC:Events for Sri Shirdi Sai Baba Temple of DFW
REFRESH-INTERVAL;VALUE=DURATION:PT1H
X-Robots-Tag:noindex
X-PUBLISHED-TTL:PT1H
BEGIN:VTIMEZONE
TZID:America/Chicago
BEGIN:DAYLIGHT
TZOFFSETFROM:-0600
TZOFFSETTO:-0500
TZNAME:CDT
DTSTART:20230312T080000
END:DAYLIGHT
BEGIN:STANDARD
TZOFFSETFROM:-0500
TZOFFSETTO:-0600
TZNAME:CST
DTSTART:20231105T070000
END:STANDARD
BEGIN:DAYLIGHT
TZOFFSETFROM:-0600
TZOFFSETTO:-0500
TZNAME:CDT
DTSTART:20240310T080000
END:DAYLIGHT
BEGIN:STANDARD
TZOFFSETFROM:-0500
TZOFFSETTO:-0600
TZNAME:CST
DTSTART:20241103T070000
END:STANDARD
BEGIN:DAYLIGHT
TZOFFSETFROM:-0600
TZOFFSETTO:-0500
TZNAME:CDT
DTSTART:20250309T080000
END:DAYLIGHT
BEGIN:STANDARD
TZOFFSETFROM:-0500
TZOFFSETTO:-0600
TZNAME:CST
DTSTART:20251102T070000
END:STANDARD
END:VTIMEZONE
BEGIN:VEVENT
DTSTART;TZID=America/Chicago:20240203T100000
DTEND;TZID=America/Chicago:20240203T110000
DTSTAMP:20260420T002631
CREATED:20240114T205113Z
LAST-MODIFIED:20240114T205115Z
UID:10000340-1706954400-1706958000@shirdisaidallas.org
SUMMARY:Temple Cleaning Seva
DESCRIPTION:An opportunity for you offer your time in cleaning and maintaining the temple. Sign up is NOT required to participate in this seva.  \n\n\n\n\n\n\n\n\n\n\n\n\n\n	\n		\n\n			\n			\n\n							\n					\n						Upcoming Events					\n				\n			\n			\n				\n											\n\n	\n	\n		\n			Apr		\n		\n			23		\n	\n\n\n	\n		\n			\n\n				\n					\n	\n	\n	\n\n\n\n	Featured\n	\n		7:30 pm – 8:30 pm	\n	\n\n	\n		\n\n	\n	\n	\n\n	\n\n\n					\n	\n		Sai Bhajans	\n\n				\n\n				\n			\n		\n	\n\n\n											\n\n	\n	\n		\n			Apr		\n		\n			25		\n	\n\n\n	\n		\n			\n\n				\n					\n	\n	\n	\n\n\n\n	Featured\n	\n		11:00 am – 11:45 am	\n	\n\n	\n		\n\n	\n	\n	\n\n	\n\n\n					\n	\n		Vishnu Sahasranamam	\n\n				\n\n				\n			\n		\n	\n\n\n											\n\n	\n	\n		\n			Apr		\n		\n			26		\n	\n\n\n	\n		\n			\n\n				\n					\n	\n	\n	\n\n\n\n	Featured\n	\n		7:00 pm – 8:00 pm	\n	\n\n	\n		\n\n	\n	\n	\n\n	\n\n\n					\n	\n		Satcharitra Reading	\n\n				\n\n				\n			\n		\n	\n\n\n									\n\n				\n	\n		View Calendar
URL:https://shirdisaidallas.org/event/temple-cleaning-seva/
LOCATION:Sri Shirdi Sai Baba Temple of DFW\, 2699 W Plano Pkwy Plano\, Texas\, TX\, 75075\, United States
CATEGORIES:Community
ATTACH;FMTTYPE=image/png:https://shirdisaidallas.org/wp-content/uploads/2024/01/Picture1.png
ORGANIZER;CN="Temple":MAILTO:maildrop@shirdisaidallas.org
END:VEVENT
BEGIN:VEVENT
DTSTART;TZID=America/Chicago:20240203T110000
DTEND;TZID=America/Chicago:20240203T114500
DTSTAMP:20260420T002632
CREATED:20240111T033123Z
LAST-MODIFIED:20240111T033125Z
UID:10000331-1706958000-1706960700@shirdisaidallas.org
SUMMARY:Vishnu Sahasranamam
DESCRIPTION:Vishnu Sahasranamam Chanting \n\n\n\n\n\n\n\n\n\n\n\n\n\n	\n		\n\n			\n			\n\n							\n					\n						Upcoming Events					\n				\n			\n			\n				\n											\n\n	\n	\n		\n			Apr		\n		\n			23		\n	\n\n\n	\n		\n			\n\n				\n					\n	\n	\n	\n\n\n\n	Featured\n	\n		7:30 pm – 8:30 pm	\n	\n\n	\n		\n\n	\n	\n	\n\n	\n\n\n					\n	\n		Sai Bhajans	\n\n				\n\n				\n			\n		\n	\n\n\n											\n\n	\n	\n		\n			Apr		\n		\n			25		\n	\n\n\n	\n		\n			\n\n				\n					\n	\n	\n	\n\n\n\n	Featured\n	\n		11:00 am – 11:45 am	\n	\n\n	\n		\n\n	\n	\n	\n\n	\n\n\n					\n	\n		Vishnu Sahasranamam	\n\n				\n\n				\n			\n		\n	\n\n\n											\n\n	\n	\n		\n			Apr		\n		\n			26		\n	\n\n\n	\n		\n			\n\n				\n					\n	\n	\n	\n\n\n\n	Featured\n	\n		7:00 pm – 8:00 pm	\n	\n\n	\n		\n\n	\n	\n	\n\n	\n\n\n					\n	\n		Satcharitra Reading	\n\n				\n\n				\n			\n		\n	\n\n\n									\n\n				\n	\n		View Calendar
URL:https://shirdisaidallas.org/event/vishnu-sahasranamam-41/
LOCATION:TX
CATEGORIES:Chanting
ATTACH;FMTTYPE=image/jpeg:https://shirdisaidallas.org/wp-content/uploads/2023/01/Vishnu-Sahasranamam.jpeg
ORGANIZER;CN="Temple":MAILTO:maildrop@shirdisaidallas.org
END:VEVENT
END:VCALENDAR