BEGIN:VCALENDAR
VERSION:2.0
PRODID:-//Sri Shirdi Sai Baba Temple of DFW - ECPv6.15.13//NONSGML v1.0//EN
CALSCALE:GREGORIAN
METHOD:PUBLISH
X-WR-CALNAME:Sri Shirdi Sai Baba Temple of DFW
X-ORIGINAL-URL:https://shirdisaidallas.org
X-WR-CALDESC:Events for Sri Shirdi Sai Baba Temple of DFW
REFRESH-INTERVAL;VALUE=DURATION:PT1H
X-Robots-Tag:noindex
X-PUBLISHED-TTL:PT1H
BEGIN:VTIMEZONE
TZID:America/Chicago
BEGIN:DAYLIGHT
TZOFFSETFROM:-0600
TZOFFSETTO:-0500
TZNAME:CDT
DTSTART:20210314T080000
END:DAYLIGHT
BEGIN:STANDARD
TZOFFSETFROM:-0500
TZOFFSETTO:-0600
TZNAME:CST
DTSTART:20211107T070000
END:STANDARD
BEGIN:DAYLIGHT
TZOFFSETFROM:-0600
TZOFFSETTO:-0500
TZNAME:CDT
DTSTART:20220313T080000
END:DAYLIGHT
BEGIN:STANDARD
TZOFFSETFROM:-0500
TZOFFSETTO:-0600
TZNAME:CST
DTSTART:20221106T070000
END:STANDARD
BEGIN:DAYLIGHT
TZOFFSETFROM:-0600
TZOFFSETTO:-0500
TZNAME:CDT
DTSTART:20230312T080000
END:DAYLIGHT
BEGIN:STANDARD
TZOFFSETFROM:-0500
TZOFFSETTO:-0600
TZNAME:CST
DTSTART:20231105T070000
END:STANDARD
END:VTIMEZONE
BEGIN:VEVENT
DTSTART;TZID=America/Chicago:20221210T093000
DTEND;TZID=America/Chicago:20221210T103000
DTSTAMP:20260423T164357
CREATED:20221204T005201Z
LAST-MODIFIED:20221204T040131Z
UID:10000053-1670664600-1670668200@shirdisaidallas.org
SUMMARY:Pada Puja
DESCRIPTION:Participate as we express gratitude to Baba through this ritual. \n\n\n\n\n\n\n\n	\n		\n\n			\n			\n\n							\n					\n						Upcoming Events					\n				\n			\n			\n				\n											\n\n	\n	\n		\n			Apr		\n		\n			23		\n	\n\n\n	\n		\n			\n\n				\n					\n	\n	\n	\n\n\n\n	Featured\n	\n		7:30 pm – 8:30 pm	\n	\n\n	\n		\n\n	\n	\n	\n\n	\n\n\n					\n	\n		Sai Bhajans	\n\n				\n\n				\n			\n		\n	\n\n\n											\n\n	\n	\n		\n			Apr		\n		\n			25		\n	\n\n\n	\n		\n			\n\n				\n					\n	\n	\n	\n\n\n\n	Featured\n	\n		11:00 am – 11:45 am	\n	\n\n	\n		\n\n	\n	\n	\n\n	\n\n\n					\n	\n		Vishnu Sahasranamam	\n\n				\n\n				\n			\n		\n	\n\n\n											\n\n	\n	\n		\n			Apr		\n		\n			26		\n	\n\n\n	\n		\n			\n\n				\n					\n	\n	\n	\n\n\n\n	Featured\n	\n		7:00 pm – 8:00 pm	\n	\n\n	\n		\n\n	\n	\n	\n\n	\n\n\n					\n	\n		Satcharitra Reading	\n\n				\n\n				\n			\n		\n	\n\n\n									\n\n				\n	\n		View Calendar
URL:https://shirdisaidallas.org/event/pada-puja-dec1-2022-2/
LOCATION:Sri Shirdi Sai Baba Temple of DFW\, 2699 W Plano Pkwy Plano\, Texas\, TX\, 75075\, United States
CATEGORIES:Traditions
ATTACH;FMTTYPE=image/jpeg:https://shirdisaidallas.org/wp-content/uploads/2022/12/sai-pada-puja-e1670125594659.jpeg
END:VEVENT
BEGIN:VEVENT
DTSTART;TZID=America/Chicago:20221210T150000
DTEND;TZID=America/Chicago:20221210T160000
DTSTAMP:20260423T164357
CREATED:20221204T035812Z
LAST-MODIFIED:20221204T035908Z
UID:10000055-1670684400-1670688000@shirdisaidallas.org
SUMMARY:Annadaan
DESCRIPTION:Participate in Annadaan \n\n\n\n\n\n\n\n	\n		\n\n			\n			\n\n							\n					\n						Upcoming Events					\n				\n			\n			\n				\n											\n\n	\n	\n		\n			Apr		\n		\n			23		\n	\n\n\n	\n		\n			\n\n				\n					\n	\n	\n	\n\n\n\n	Featured\n	\n		7:30 pm – 8:30 pm	\n	\n\n	\n		\n\n	\n	\n	\n\n	\n\n\n					\n	\n		Sai Bhajans	\n\n				\n\n				\n			\n		\n	\n\n\n											\n\n	\n	\n		\n			Apr		\n		\n			25		\n	\n\n\n	\n		\n			\n\n				\n					\n	\n	\n	\n\n\n\n	Featured\n	\n		11:00 am – 11:45 am	\n	\n\n	\n		\n\n	\n	\n	\n\n	\n\n\n					\n	\n		Vishnu Sahasranamam	\n\n				\n\n				\n			\n		\n	\n\n\n											\n\n	\n	\n		\n			Apr		\n		\n			26		\n	\n\n\n	\n		\n			\n\n				\n					\n	\n	\n	\n\n\n\n	Featured\n	\n		7:00 pm – 8:00 pm	\n	\n\n	\n		\n\n	\n	\n	\n\n	\n\n\n					\n	\n		Satcharitra Reading	\n\n				\n\n				\n			\n		\n	\n\n\n									\n\n				\n	\n		View Calendar
URL:https://shirdisaidallas.org/event/annadaan-dec10-2022/
LOCATION:Sri Shirdi Sai Baba Temple of DFW\, 2699 W Plano Pkwy Plano\, Texas\, TX\, 75075\, United States
CATEGORIES:Community
ATTACH;FMTTYPE=image/jpeg:https://shirdisaidallas.org/wp-content/uploads/2022/12/annadaan-3.jpeg
END:VEVENT
BEGIN:VEVENT
DTSTART;TZID=America/Chicago:20221210T190000
DTEND;TZID=America/Chicago:20221210T200000
DTSTAMP:20260423T164357
CREATED:20221204T040203Z
LAST-MODIFIED:20221204T042911Z
UID:10000056-1670698800-1670702400@shirdisaidallas.org
SUMMARY:Sai Bhajans
DESCRIPTION:Immerse yourself in Sai Bhajans. \n\n\n\n\n\n\n\n\n\n	\n		\n\n			\n			\n\n							\n					\n						Upcoming Events					\n				\n			\n			\n				\n											\n\n	\n	\n		\n			Apr		\n		\n			23		\n	\n\n\n	\n		\n			\n\n				\n					\n	\n	\n	\n\n\n\n	Featured\n	\n		7:30 pm – 8:30 pm	\n	\n\n	\n		\n\n	\n	\n	\n\n	\n\n\n					\n	\n		Sai Bhajans	\n\n				\n\n				\n			\n		\n	\n\n\n											\n\n	\n	\n		\n			Apr		\n		\n			25		\n	\n\n\n	\n		\n			\n\n				\n					\n	\n	\n	\n\n\n\n	Featured\n	\n		11:00 am – 11:45 am	\n	\n\n	\n		\n\n	\n	\n	\n\n	\n\n\n					\n	\n		Vishnu Sahasranamam	\n\n				\n\n				\n			\n		\n	\n\n\n											\n\n	\n	\n		\n			Apr		\n		\n			26		\n	\n\n\n	\n		\n			\n\n				\n					\n	\n	\n	\n\n\n\n	Featured\n	\n		7:00 pm – 8:00 pm	\n	\n\n	\n		\n\n	\n	\n	\n\n	\n\n\n					\n	\n		Satcharitra Reading	\n\n				\n\n				\n			\n		\n	\n\n\n									\n\n				\n	\n		View Calendar
URL:https://shirdisaidallas.org/event/sai-bhajans-dec10-2022/
LOCATION:Sri Shirdi Sai Baba Temple of DFW\, 2699 W Plano Pkwy Plano\, Texas\, TX\, 75075\, United States
CATEGORIES:Bhajan
ATTACH;FMTTYPE=image/jpeg:https://shirdisaidallas.org/wp-content/uploads/2022/12/sai-bhajan-3.jpeg
ORGANIZER;CN="Temple":MAILTO:maildrop@shirdisaidallas.org
END:VEVENT
END:VCALENDAR